BEGIN:VCALENDAR
VERSION:2.0
PRODID:-//Tukios.com/
BEGIN:VEVENT
UID:a8867eba-b8fe-4fba-9723-fda151ed9c90@www.tpwhite.com
DTSTAMP:20260424T202811Z
DTSTART:20260502T140000Z
DTEND:20260502T150000Z
SUMMARY:Mass of Christian Burial
DESCRIPTION:
URL:https://www.tpwhite.com/obituaries/jane-duncan
LOCATION:St. Veronica Catholic Church 4473 Mt. Carmel Tobasco Rd  
	Cincinnati OH 45244
GEO:39.101521;-84.3006949
END:VEVENT
END:VCALENDAR