BEGIN:VCALENDAR
VERSION:2.0
PRODID:-//Tukios.com/
BEGIN:VEVENT
UID:278be22e-729e-4d9c-bf12-0299c27a8032@www.tpwhite.com
DTSTAMP:20260424T203646Z
DTSTART:20260502T130000Z
DTEND:20260502T140000Z
SUMMARY:Memorial Visitation 
DESCRIPTION:
URL:https://www.tpwhite.com/obituaries/jane-duncan
LOCATION:St. Veronica Catholic Church 4473 Mt. Carmel Tobasco Rd  
	Cincinnati OH 45244
GEO:39.101521;-84.3006949
END:VEVENT
END:VCALENDAR