BEGIN:VCALENDAR
VERSION:2.0
PRODID:-//Tukios.com/
BEGIN:VEVENT
UID:a1c964ef-9c08-42f8-8c1b-264dcd75d1da@www.tpwhite.com
DTSTAMP:20260423T225439Z
DTSTART:20260429T154500Z
DTEND:20260429T161500Z
SUMMARY:Burial
DESCRIPTION:
URL:https://www.tpwhite.com/obituaries/john-lenihan
LOCATION: 7150 Beechmont Avenue  Cincinnati OH 45230
GEO:39.073407;-84.3604828
END:VEVENT
END:VCALENDAR