BEGIN:VCALENDAR
VERSION:2.0
PRODID:-//Tukios.com/
BEGIN:VEVENT
UID:848eca2a-3ba3-4764-bf46-f2f453ff7516@www.tpwhite.com
DTSTAMP:20260423T225935Z
DTSTART:20260429T143000Z
DTEND:20260429T153000Z
SUMMARY:Mass of Christian Burial
DESCRIPTION:
URL:https://www.tpwhite.com/obituaries/john-lenihan
LOCATION:Guardian Angels Church  6531 Beechmont Ave  Cincinnati OH 45230
GEO:39.08528;-84.37742
END:VEVENT
END:VCALENDAR