BEGIN:VCALENDAR
VERSION:2.0
PRODID:-//Tukios.com/
BEGIN:VEVENT
UID:3eb4aceb-9b45-4b7e-a784-ccb74288b911@www.tpwhite.com
DTSTAMP:20260423T225935Z
DTSTART:20260429T133000Z
DTEND:20260429T143000Z
SUMMARY:Visitation
DESCRIPTION:
URL:https://www.tpwhite.com/obituaries/john-lenihan
LOCATION:Guardian Angels Church  6531 Beechmont Ave  Cincinnati OH 45230
GEO:39.08528;-84.37742
END:VEVENT
END:VCALENDAR