BEGIN:VCALENDAR
VERSION:2.0
PRODID:-//Tukios.com/
BEGIN:VEVENT
UID:cbfff638-03df-4835-92fe-cc93825fef4b@www.tpwhite.com
DTSTAMP:20260420T234715Z
DTSTART:20260422T143000Z
DTEND:20260422T153000Z
SUMMARY:Mass of Christian Burial
DESCRIPTION:
URL:https://www.tpwhite.com/obituaries/joyce-castellini
LOCATION:Guardian Angels Church  6531 Beechmont Ave  Cincinnati OH 45230
GEO:39.08528;-84.37742
END:VEVENT
END:VCALENDAR