BEGIN:VCALENDAR
VERSION:2.0
PRODID:-//Tukios.com/
BEGIN:VEVENT
UID:f946ef6e-fb85-48b0-90f8-14e0eaed6cce@www.tpwhite.com
DTSTAMP:20260420T234409Z
DTSTART:20260422T140000Z
DTEND:20260422T143000Z
SUMMARY:Visitation
DESCRIPTION:
URL:https://www.tpwhite.com/obituaries/joyce-castellini
LOCATION:Guardian Angels Church  6531 Beechmont Ave  Cincinnati OH 45230
GEO:39.08528;-84.37742
END:VEVENT
END:VCALENDAR