BEGIN:VCALENDAR
VERSION:2.0
PRODID:-//Tukios.com/
BEGIN:VEVENT
UID:c2e5ee7e-858c-488d-ab7c-5aba16e4ac14@www.tpwhite.com
DTSTAMP:20260422T220550Z
DTSTART:20260427T170000Z
DTEND:20260427T173000Z
SUMMARY:Burial
DESCRIPTION:
URL:https://www.tpwhite.com/obituaries/kathleen-magner
LOCATION:St. Paul Catholic Cemetery 308 Phillips St  Yellow Springs OH 
	45387
GEO:39.8058279;-83.8933054
END:VEVENT
END:VCALENDAR