BEGIN:VCALENDAR
VERSION:2.0
PRODID:-//Tukios.com/
BEGIN:VEVENT
UID:46d3fa03-c2d8-4162-bf74-934bf229819a@www.tpwhite.com
DTSTAMP:20260422T221356Z
DTSTART:20260427T140000Z
DTEND:20260427T150000Z
SUMMARY:Mass of Christian Burial
DESCRIPTION:
URL:https://www.tpwhite.com/obituaries/kathleen-magner
LOCATION:St. Francis Xavier Catholic Church 611 Sycamore St  Cincinnati 
	OH 45202
GEO:39.103619;-84.5087752
END:VEVENT
END:VCALENDAR