BEGIN:VCALENDAR
VERSION:2.0
PRODID:-//Tukios.com/
BEGIN:VEVENT
UID:941ae886-7ecb-4396-a6f5-ce6398381aab@www.tpwhite.com
DTSTAMP:20260422T220944Z
DTSTART:20260427T130000Z
DTEND:20260427T140000Z
SUMMARY:Visitation
DESCRIPTION:
URL:https://www.tpwhite.com/obituaries/kathleen-magner
LOCATION:St. Francis Xavier Catholic Church 611 Sycamore St  Cincinnati 
	OH 45202
GEO:39.103619;-84.5087752
END:VEVENT
END:VCALENDAR