BEGIN:VCALENDAR
VERSION:2.0
PRODID:-//Tukios.com/
BEGIN:VEVENT
UID:af56e90a-14e7-4cde-b72b-b4cdc26d77af@www.tpwhite.com
DTSTAMP:20260423T191709Z
DTSTART:20260507T150000Z
DTEND:20260507T160000Z
SUMMARY:Mass of Christian Burial
DESCRIPTION:
URL:https://www.tpwhite.com/obituaries/sheila-wheatley
LOCATION:St. John the Evangelist Church 7121 Plainfield Rd.  Deer Park OH 
	45236
GEO:39.1979373;-84.4006133
END:VEVENT
END:VCALENDAR