BEGIN:VCALENDAR
VERSION:2.0
PRODID:-//Tukios.com/
BEGIN:VEVENT
UID:22e30d19-4ece-4bb8-a542-c5d38d045a51@www.tpwhite.com
DTSTAMP:20260423T191510Z
DTSTART:20260507T140000Z
DTEND:20260507T150000Z
SUMMARY:Visitation
DESCRIPTION:
URL:https://www.tpwhite.com/obituaries/sheila-wheatley
LOCATION:St. John the Evangelist Church 7121 Plainfield Rd.  Deer Park OH 
	45236
GEO:39.1979373;-84.4006133
END:VEVENT
END:VCALENDAR